BEGIN:VCALENDAR
VERSION:2.0
PRODID:-//NBS//eStore//DVCP Spring Meeting (Delaware Valley Career Planners) 
CALSCALE:GREGORIAN
METHOD:PUBLISH
BEGIN:VEVENT
DTSTART:20260526T083000
DTEND:20260526T150000
SUMMARY:DVCP Spring Meeting (Delaware Valley Career Planners) 
LOCATION:204-298 Morris Avenue , Bryn Mawr, PA, 19010
DESCRIPTION:
PRIORITY:3
END:VEVENT
END:VCALENDAR
